BEGIN:VCALENDAR
VERSION:2.0
PRODID:-//hacksw/handcal//NONSGML v1.0//EN
CALSCALE:GREGORIAN
BEGIN:VEVENT
LOCATION:
SUMMARY:Voyage d&rsquo\;étude : stratégie et plan d&rsquo\;action agro-alimentaires de Valence\, Espagne
DESCRIPTION:Voyage d&rsquo\;étude : stratégie et plan d&rsquo\;action agro-alimentaires de Valence\, Espagne
DTSTART:20221201T000000
DTEND:20221202T000000
URL;VALUE=URI:https://energy-cities.eu/fr/evenement/voyage-detude-strategie-et-plan-daction-agro-alimentaire-de-valence-espagne/
DTSTAMP:now
UID:6597636162aad
END:VEVENT
END:VCALENDAR