BEGIN:VCALENDAR
VERSION:2.0
PRODID:-//hacksw/handcal//NONSGML v1.0//EN
CALSCALE:GREGORIAN
BEGIN:VEVENT
LOCATION:
SUMMARY:We are here to help you achieve fossil-free districts!
DESCRIPTION:We are here to help you achieve fossil-free districts!
DTSTART:20221129T110000
DTEND:20221129T120000
URL;VALUE=URI:https://energy-cities.eu/event/energy-cities-is-here-to-help-you-to-achieve-fossil-free-districts/
DTSTAMP:now
UID:6597681cb9546
END:VEVENT
END:VCALENDAR