BEGIN:VCALENDAR
VERSION:2.0
PRODID:-//hacksw/handcal//NONSGML v1.0//EN
CALSCALE:GREGORIAN
BEGIN:VEVENT
LOCATION:
SUMMARY:Web-séminaire : « Favoriser l’ancrage territorial des projets EnR par la coopération entre les acteurs du territoire »
DESCRIPTION:Web-séminaire : « Favoriser l’ancrage territorial des projets EnR par la coopération entre les acteurs du territoire »
DTSTART:20200619T110000
DTEND:20200619T123000
URL;VALUE=URI:https://energy-cities.eu/fr/evenement/web-seminaire-favoriser-lancrage-territorial-des-projets-enr-par-la-cooperation-entre-les-acteurs-du-territoire/
DTSTAMP:now
UID:6597652d28c32
END:VEVENT
END:VCALENDAR