BEGIN:VCALENDAR
VERSION:2.0
PRODID:-//hacksw/handcal//NONSGML v1.0//EN
CALSCALE:GREGORIAN
BEGIN:VEVENT
LOCATION:
SUMMARY:Webconférence sur l’intracting &#8211\; Rénovation énergétique
DESCRIPTION:Webconférence sur l’intracting &#8211\; Rénovation énergétique
DTSTART:20200204T100000
DTEND:20200204T120000
URL;VALUE=URI:https://energy-cities.eu/fr/evenement/deuxieme-rencontre-nationale-sur-lintracting-renovation-energetique/
DTSTAMP:now
UID:65976579b8dff
END:VEVENT
END:VCALENDAR