BEGIN:VCALENDAR
VERSION:2.0
PRODID:-//hacksw/handcal//NONSGML v1.0//EN
CALSCALE:GREGORIAN
BEGIN:VEVENT
LOCATION:
SUMMARY:Webconference on intracting &#8211\; Energy retrofitting
DESCRIPTION:Webconference on intracting &#8211\; Energy retrofitting
DTSTART:20200204T100000
DTEND:20200204T120000
URL;VALUE=URI:https://energy-cities.eu/event/deuxieme-rencontre-nationale-sur-lintracting-renovation-energetique/
DTSTAMP:now
UID:65976f9cbb5ee
END:VEVENT
END:VCALENDAR