BEGIN:VCALENDAR
VERSION:2.0
PRODID:-//hacksw/handcal//NONSGML v1.0//EN
CALSCALE:GREGORIAN
BEGIN:VEVENT
LOCATION:
SUMMARY:Webinar: Launch of the Covenant of Mayors – Europe pillar on energy poverty
DESCRIPTION:Webinar: Launch of the Covenant of Mayors – Europe pillar on energy poverty
DTSTART:20220511T000000
DTEND:20220511T000000
URL;VALUE=URI:https://energy-cities.eu/event/webinar-launch-of-the-covenant-of-mayors-europe-pillar-on-energy-poverty/
DTSTAMP:now
UID:65976f9060dce
END:VEVENT
END:VCALENDAR