BEGIN:VCALENDAR
VERSION:2.0
PRODID:-//hacksw/handcal//NONSGML v1.0//EN
CALSCALE:GREGORIAN
BEGIN:VEVENT
LOCATION:
SUMMARY:Webinar: Mobilising investments for energy communities
DESCRIPTION:Webinar: Mobilising investments for energy communities
DTSTART:20231205T100000
DTEND:20231205T113000
URL;VALUE=URI:https://energy-cities.eu/event/webinar-mobilising-investments-for-energy-communities/
DTSTAMP:now
UID:65976b84b8b1e
END:VEVENT
END:VCALENDAR