BEGIN:VCALENDAR
VERSION:2.0
PRODID:-//hacksw/handcal//NONSGML v1.0//EN
CALSCALE:GREGORIAN
BEGIN:VEVENT
LOCATION:
SUMMARY:Webinar: The role of local strategic heat planning to accelerate Poland&#8217\;s heating transition
DESCRIPTION:Webinar: The role of local strategic heat planning to accelerate Poland&#8217\;s heating transition
DTSTART:20231213T090000
DTEND:20231213T110000
URL;VALUE=URI:https://energy-cities.eu/event/the-role-of-local-strategic-heat-planning-to-accelerate-polands-heating-transition/
DTSTAMP:now
UID:659772051f150
END:VEVENT
END:VCALENDAR