BEGIN:VCALENDAR
VERSION:2.0
PRODID:-//hacksw/handcal//NONSGML v1.0//EN
CALSCALE:GREGORIAN
BEGIN:VEVENT
LOCATION:
SUMMARY:Webinar #5 New local compasses for territorial policies
DESCRIPTION:Webinar #5 New local compasses for territorial policies
DTSTART:20230227T100000
DTEND:20230227T113000
URL;VALUE=URI:https://energy-cities.eu/event/webinar-5-new-local-compasses-for-territorial-policies/
DTSTAMP:now
UID:65976ebd74e79
END:VEVENT
END:VCALENDAR