BEGIN:VCALENDAR
VERSION:2.0
PRODID:-//hacksw/handcal//NONSGML v1.0//EN
CALSCALE:GREGORIAN
BEGIN:VEVENT
LOCATION:
SUMMARY:Webinar #6 Degrowth and overconsumption
DESCRIPTION:Webinar #6 Degrowth and overconsumption
DTSTART:20230320T100000
DTEND:20230320T113000
URL;VALUE=URI:https://energy-cities.eu/event/webinar-6-degrowth-and-overconsumption/
DTSTAMP:now
UID:659766e7bedf8
END:VEVENT
END:VCALENDAR