BEGIN:VCALENDAR
VERSION:2.0
PRODID:-//hacksw/handcal//NONSGML v1.0//EN
CALSCALE:GREGORIAN
BEGIN:VEVENT
LOCATION:
SUMMARY:Webinar &#8211\; Heating and cooling planning at local level : step it up !
DESCRIPTION:Webinar &#8211\; Heating and cooling planning at local level : step it up !
DTSTART:20190523T143000
DTEND:20190514T160000
URL;VALUE=URI:https://energy-cities.eu/event/webinar-heating-and-cooling-planning-at-local-level-step-it-up/
DTSTAMP:now
UID:6597671ebdacf
END:VEVENT
END:VCALENDAR