BEGIN:VCALENDAR
VERSION:2.0
PRODID:-//hacksw/handcal//NONSGML v1.0//EN
CALSCALE:GREGORIAN
BEGIN:VEVENT
LOCATION:
SUMMARY:Webinar &#8211\; Strengthening collaboration between community-led initiatives and local authorities for regional sustainability
DESCRIPTION:Webinar &#8211\; Strengthening collaboration between community-led initiatives and local authorities for regional sustainability
DTSTART:20200922T140000
DTEND:20200922T160000
URL;VALUE=URI:https://energy-cities.eu/event/webinar-strengthening-collaboration-between-community-led-initiatives-and-local-authorities-for-regional-sustainability/
DTSTAMP:now
UID:65976bfdc0154
END:VEVENT
END:VCALENDAR