BEGIN:VCALENDAR
VERSION:2.0
PRODID:-//hacksw/handcal//NONSGML v1.0//EN
CALSCALE:GREGORIAN
BEGIN:VEVENT
LOCATION:
SUMMARY:Webinar and Q&#038\;A: Legal frameworks\, drivers and barriers for energy communities
DESCRIPTION:Webinar and Q&#038\;A: Legal frameworks\, drivers and barriers for energy communities
DTSTART:20231123T100000
DTEND:20231123T113000
URL;VALUE=URI:https://energy-cities.eu/event/webinar-and-qa-legal-frameworks-drivers-and-barriers-for-energy-communities/
DTSTAMP:now
UID:65976f70f1653
END:VEVENT
END:VCALENDAR