BEGIN:VCALENDAR
VERSION:2.0
PRODID:-//hacksw/handcal//NONSGML v1.0//EN
CALSCALE:GREGORIAN
BEGIN:VEVENT
LOCATION:
SUMMARY:What&#8217\;s EUp : new European heating and cooling legislation impacting local and regional authorities
DESCRIPTION:What&#8217\;s EUp : new European heating and cooling legislation impacting local and regional authorities
DTSTART:20231206T100000
DTEND:20231206T113000
URL;VALUE=URI:https://energy-cities.eu/event/whats-eup-new-european-heating-and-cooling-legislation-impacting-local-and-regional-authorities/
DTSTAMP:now
UID:659771cc38e4b
END:VEVENT
END:VCALENDAR