BEGIN:VCALENDAR
VERSION:2.0
PRODID:-//hacksw/handcal//NONSGML v1.0//EN
CALSCALE:GREGORIAN
BEGIN:VEVENT
LOCATION:
SUMMARY:What&#8217\;sEUp: Updates on the European legislation on heating/cooling &#038\; building renovation
DESCRIPTION:What&#8217\;sEUp: Updates on the European legislation on heating/cooling &#038\; building renovation
DTSTART:20221208T140000
DTEND:20221208T150000
URL;VALUE=URI:https://energy-cities.eu/event/whatseup-discussing-what-is-new-for-local-governments-focus-buildings-and-heatingcooling/
DTSTAMP:now
UID:65976e9add4ba
END:VEVENT
END:VCALENDAR