BEGIN:VCALENDAR
VERSION:2.0
PRODID:-//hacksw/handcal//NONSGML v1.0//EN
CALSCALE:GREGORIAN
BEGIN:VEVENT
LOCATION:
SUMMARY:What are the key questions to address for the development of Positive Energy Districts?
DESCRIPTION:What are the key questions to address for the development of Positive Energy Districts?
DTSTART:20221020T140000
DTEND:20221020T170000
URL;VALUE=URI:https://energy-cities.eu/event/exploring-positive-energy-district-development-learning-from-the-cities4peds-2-year-research/
DTSTAMP:now
UID:65976b00b1688
END:VEVENT
END:VCALENDAR