BEGIN:VCALENDAR
VERSION:2.0
PRODID:-//hacksw/handcal//NONSGML v1.0//EN
CALSCALE:GREGORIAN
BEGIN:VEVENT
LOCATION:
SUMMARY:What emergency energy saving measures should my city take?
DESCRIPTION:What emergency energy saving measures should my city take?
DTSTART:20220615T110000
DTEND:20220615T123000
URL;VALUE=URI:https://energy-cities.eu/event/what-emergency-energy-saving-measures-should-my-city-take/
DTSTAMP:now
UID:659776318b89f
END:VEVENT
END:VCALENDAR