BEGIN:VCALENDAR
VERSION:2.0
PRODID:-//hacksw/handcal//NONSGML v1.0//EN
CALSCALE:GREGORIAN
BEGIN:VEVENT
LOCATION:
SUMMARY:What legislative framework for cities to phase-out natural gas and avoid gas stranded assets?
DESCRIPTION:What legislative framework for cities to phase-out natural gas and avoid gas stranded assets?
DTSTART:20230705T110000
DTEND:20230705T123000
URL;VALUE=URI:https://energy-cities.eu/event/what-legislative-framework-for-cities-to-phase-out-natural-gas-and-avoid-gas-stranded-assets/
DTSTAMP:now
UID:659769086709e
END:VEVENT
END:VCALENDAR