BEGIN:VCALENDAR
VERSION:2.0
PRODID:-//hacksw/handcal//NONSGML v1.0//EN
CALSCALE:GREGORIAN
BEGIN:VEVENT
LOCATION:
SUMMARY:Which approach and steps to replace individual gas boilers in the building stock (especially in old buildings)?
DESCRIPTION:Which approach and steps to replace individual gas boilers in the building stock (especially in old buildings)?
DTSTART:20210528T100000
DTEND:20210528T120000
URL;VALUE=URI:https://energy-cities.eu/event/which-approach-and-steps-to-replace-individual-gas-boilers-in-the-building-stock-especially-in-old-buildings/
DTSTAMP:now
UID:65976c42b3c81
END:VEVENT
END:VCALENDAR