BEGIN:VCALENDAR
VERSION:2.0
PRODID:-//hacksw/handcal//NONSGML v1.0//EN
CALSCALE:GREGORIAN
BEGIN:VEVENT
LOCATION:
SUMMARY:Why and How is Technical Assistance the Wealth-enabler for buildings?
DESCRIPTION:Why and How is Technical Assistance the Wealth-enabler for buildings?
DTSTART:20210928T103000
DTEND:20210928T120000
URL;VALUE=URI:https://energy-cities.eu/event/why-and-how-is-technical-assistance-the-wealth-enabler-for-buildings/
DTSTAMP:now
UID:65976533bd4b8
END:VEVENT
END:VCALENDAR