BEGIN:VCALENDAR
VERSION:2.0
PRODID:-//hacksw/handcal//NONSGML v1.0//EN
CALSCALE:GREGORIAN
BEGIN:VEVENT
LOCATION:
SUMMARY:Working together towards the green reconstruction of Ukraine
DESCRIPTION:Working together towards the green reconstruction of Ukraine
DTSTART:20230510T090000
DTEND:20230511T110000
URL;VALUE=URI:https://energy-cities.eu/event/working-together-towards-the-green-reconstruction-of-ukraine/
DTSTAMP:now
UID:659776d5228a5
END:VEVENT
END:VCALENDAR