BEGIN:VCALENDAR
VERSION:2.0
PRODID:-//hacksw/handcal//NONSGML v1.0//EN
CALSCALE:GREGORIAN
BEGIN:VEVENT
LOCATION:
SUMMARY:Workshop: Governance and food strategy
DESCRIPTION:Workshop: Governance and food strategy
DTSTART:20221213T110000
DTEND:20221213T123000
URL;VALUE=URI:https://energy-cities.eu/event/workshop-governance-and-food-strategy/
DTSTAMP:now
UID:65976f19c1ac3
END:VEVENT
END:VCALENDAR