BEGIN:VCALENDAR
VERSION:2.0
PRODID:-//hacksw/handcal//NONSGML v1.0//EN
CALSCALE:GREGORIAN
BEGIN:VEVENT
LOCATION:
SUMMARY:Would a Right to Energy End Energy Poverty?
DESCRIPTION:Would a Right to Energy End Energy Poverty?
DTSTART:20210315T000000
DTEND:20210319T000000
URL;VALUE=URI:https://energy-cities.eu/event/would-a-right-to-energy-end-energy-poverty/
DTSTAMP:now
UID:6597651d3adcc
END:VEVENT
END:VCALENDAR