BEGIN:VCALENDAR
VERSION:2.0
PRODID:-//hacksw/handcal//NONSGML v1.0//EN
CALSCALE:GREGORIAN
BEGIN:VEVENT
LOCATION:
SUMMARY:mPOWER Digital course
DESCRIPTION:mPOWER Digital course
DTSTART:20210422T000000
DTEND:20210422T000000
URL;VALUE=URI:https://energy-cities.eu/event/mpower-digital-course/
DTSTAMP:now
UID:6597706a5c6b1
END:VEVENT
END:VCALENDAR