BEGIN:VCALENDAR
VERSION:2.0
PRODID:-//hacksw/handcal//NONSGML v1.0//EN
CALSCALE:GREGORIAN
BEGIN:VEVENT
LOCATION:12100 Millau\, France
SUMMARY:Rencontres TEPOS « Énergie et territoires ruraux\, vers des territoires à énergie positive »
DESCRIPTION:Rencontres TEPOS « Énergie et territoires ruraux\, vers des territoires à énergie positive »
DTSTART:20210929T000000
DTEND:20210929T000000
URL;VALUE=URI:https://energy-cities.eu/fr/evenement/rencontres-tepos-energie-et-territoires-ruraux-vers-des-territoires-a-energie-positive/
DTSTAMP:now
UID:659765e74e240
END:VEVENT
END:VCALENDAR