BEGIN:VCALENDAR
VERSION:2.0
PRODID:-//hacksw/handcal//NONSGML v1.0//EN
CALSCALE:GREGORIAN
BEGIN:VEVENT
LOCATION:2 Place Saint-Jacques\, Besançon\, France
SUMMARY:L’urbanisme circulaire : quels enjeux pour Grand Besançon Métropole ? Quelles alternatives concrètes ? suite
DESCRIPTION:L’urbanisme circulaire : quels enjeux pour Grand Besançon Métropole ? Quelles alternatives concrètes ? suite
DTSTART:20220304T100000
DTEND:20220304T120000
URL;VALUE=URI:https://energy-cities.eu/fr/evenement/lurbanisme-circulaire-quels-enjeux-pour-grand-besancon-metropole-quelles-alternatives-concretes-suite/
DTSTAMP:now
UID:65976c120401f
END:VEVENT
END:VCALENDAR