BEGIN:VCALENDAR
VERSION:2.0
PRODID:-//hacksw/handcal//NONSGML v1.0//EN
CALSCALE:GREGORIAN
BEGIN:VEVENT
LOCATION:21 Avenue des Martyrs\, 38000 Grenoble\, France
SUMMARY:Réduction des besoins énergétiques : quelles perspectives pour les réseaux et les collectivités locales?
DESCRIPTION:Réduction des besoins énergétiques : quelles perspectives pour les réseaux et les collectivités locales?
DTSTART:20221018T093000
DTEND:20221018T163000
URL;VALUE=URI:https://energy-cities.eu/fr/evenement/planification-energetique-pour-quels-besoins-avec-quels-moyens-quelles-consequences-sur-les-reseaux-denergie/
DTSTAMP:now
UID:65976c3fd84b5
END:VEVENT
END:VCALENDAR