BEGIN:VCALENDAR
VERSION:2.0
PRODID:-//hacksw/handcal//NONSGML v1.0//EN
CALSCALE:GREGORIAN
BEGIN:VEVENT
LOCATION:21000 Dijon\, France
SUMMARY:Réseau des POTEs &#8211\; Ouverture du Festival des Solutions Écologiques
DESCRIPTION:Réseau des POTEs &#8211\; Ouverture du Festival des Solutions Écologiques
DTSTART:20210905T000000
DTEND:20210905T000000
URL;VALUE=URI:https://energy-cities.eu/fr/evenement/reseau-des-potes-ouverture-du-festival-des-solutions-ecologiques/
DTSTAMP:now
UID:6597663565d29
END:VEVENT
END:VCALENDAR