BEGIN:VCALENDAR
VERSION:2.0
PRODID:-//hacksw/handcal//NONSGML v1.0//EN
CALSCALE:GREGORIAN
BEGIN:VEVENT
LOCATION:22330 Le Gouray\, France
SUMMARY:Rencontre nationale « Energie et Territoires ruraux : vers des territoires à énergie positive »
DESCRIPTION:Rencontre nationale « Energie et Territoires ruraux : vers des territoires à énergie positive »
DTSTART:20200923T000000
DTEND:20200925T000000
URL;VALUE=URI:https://energy-cities.eu/fr/evenement/rencontre-nationale-energie-et-territoires-ruraux/
DTSTAMP:now
UID:65976b2010940
END:VEVENT
END:VCALENDAR