BEGIN:VCALENDAR
VERSION:2.0
PRODID:-//hacksw/handcal//NONSGML v1.0//EN
CALSCALE:GREGORIAN
BEGIN:VEVENT
LOCATION:25000 Besançon\, France
SUMMARY:Occupation temporaire d&rsquo\;espaces délaissés
DESCRIPTION:Occupation temporaire d&rsquo\;espaces délaissés
DTSTART:20191128T100000
DTEND:20191128T160000
URL;VALUE=URI:https://energy-cities.eu/fr/evenement/occupation-temporaire-despaces-delaisses/
DTSTAMP:now
UID:65976aa93327f
END:VEVENT
END:VCALENDAR