BEGIN:VCALENDAR
VERSION:2.0
PRODID:-//hacksw/handcal//NONSGML v1.0//EN
CALSCALE:GREGORIAN
BEGIN:VEVENT
LOCATION:25000 Besançon\, France
SUMMARY:Temporary occupation of abandoned spaces
DESCRIPTION:Temporary occupation of abandoned spaces
DTSTART:20191128T100000
DTEND:20191128T160000
URL;VALUE=URI:https://energy-cities.eu/event/occupation-temporaire-despaces-delaisses/
DTSTAMP:now
UID:6597697d034d4
END:VEVENT
END:VCALENDAR