BEGIN:VCALENDAR
VERSION:2.0
PRODID:-//hacksw/handcal//NONSGML v1.0//EN
CALSCALE:GREGORIAN
BEGIN:VEVENT
LOCATION:3600 Genk\, Belgium
SUMMARY:Energy Mission 2021
DESCRIPTION:Energy Mission 2021
DTSTART:20211021T000000
DTEND:20211022T000000
URL;VALUE=URI:https://energy-cities.eu/event/energy-mission-2021/
DTSTAMP:now
UID:6597675437f65
END:VEVENT
END:VCALENDAR