BEGIN:VCALENDAR
VERSION:2.0
PRODID:-//hacksw/handcal//NONSGML v1.0//EN
CALSCALE:GREGORIAN
BEGIN:VEVENT
LOCATION:38 Rue Saint Sabin\, 75011\, Paris\, France
SUMMARY:Ateliers des territoires &#8211\; Cycle de conférences 2019-2020
DESCRIPTION:Ateliers des territoires &#8211\; Cycle de conférences 2019-2020
DTSTART:20191008T173000
DTEND:20191008T190000
URL;VALUE=URI:https://energy-cities.eu/fr/evenement/ateliers-des-territoires-cycle-de-conferences-2019-2020/
DTSTAMP:now
UID:65977037f3372
END:VEVENT
END:VCALENDAR