BEGIN:VCALENDAR
VERSION:2.0
PRODID:-//hacksw/handcal//NONSGML v1.0//EN
CALSCALE:GREGORIAN
BEGIN:VEVENT
LOCATION:44690 Monnières\, France
SUMMARY:Rencontres entre territoires en transitions
DESCRIPTION:Rencontres entre territoires en transitions
DTSTART:20210610T000000
DTEND:20210611T000000
URL;VALUE=URI:https://energy-cities.eu/fr/evenement/rencontres-entre-territoires-en-transitions/
DTSTAMP:now
UID:65976af795b31
END:VEVENT
END:VCALENDAR