BEGIN:VCALENDAR
VERSION:2.0
PRODID:-//hacksw/handcal//NONSGML v1.0//EN
CALSCALE:GREGORIAN
BEGIN:VEVENT
LOCATION:8 place Oscar Niemeyer\, 76600 Le Havre\, France
SUMMARY:LH Forum:  L&rsquo\;avenir de la planète bleue
DESCRIPTION:LH Forum:  L&rsquo\;avenir de la planète bleue
DTSTART:20210923T000000
DTEND:20210924T000000
URL;VALUE=URI:https://energy-cities.eu/fr/evenement/lh-forum-lavenir-de-la-planete-bleue/
DTSTAMP:now
UID:65976d390c46a
END:VEVENT
END:VCALENDAR