BEGIN:VCALENDAR
VERSION:2.0
PRODID:-//hacksw/handcal//NONSGML v1.0//EN
CALSCALE:GREGORIAN
BEGIN:VEVENT
LOCATION:Aachen\, Germany
SUMMARY:CIVITAS Forum 2021
DESCRIPTION:CIVITAS Forum 2021
DTSTART:20211020T000000
DTEND:20211021T000000
URL;VALUE=URI:https://energy-cities.eu/event/civitas-forum-2021/
DTSTAMP:now
UID:6597678a2c0e6
END:VEVENT
END:VCALENDAR