BEGIN:VCALENDAR
VERSION:2.0
PRODID:-//hacksw/handcal//NONSGML v1.0//EN
CALSCALE:GREGORIAN
BEGIN:VEVENT
LOCATION:Aarhus\, Denmark
SUMMARY:Geothermal District Heating and Cooling Days 2023
DESCRIPTION:Geothermal District Heating and Cooling Days 2023
DTSTART:20230919T000000
DTEND:20230921T000000
URL;VALUE=URI:https://energy-cities.eu/event/geothermal-district-heating-and-cooling-days-2023/
DTSTAMP:now
UID:6597723f28833
END:VEVENT
END:VCALENDAR