BEGIN:VCALENDAR
VERSION:2.0
PRODID:-//hacksw/handcal//NONSGML v1.0//EN
CALSCALE:GREGORIAN
BEGIN:VEVENT
LOCATION:Aberdeen\, Scotland\, UK
SUMMARY:ACE-Retrofitting Conference : How local and national governments can facilitate energy efficiency improvements in older buildings
DESCRIPTION:ACE-Retrofitting Conference : How local and national governments can facilitate energy efficiency improvements in older buildings
DTSTART:20190516T100000
DTEND:20190516T143000
URL;VALUE=URI:https://energy-cities.eu/event/ace-retrofitting-conference-how-local-and-national-governments-can-facilitate-energy-efficiency-improvements-in-older-buildings/
DTSTAMP:now
UID:659777a47d681
END:VEVENT
END:VCALENDAR