BEGIN:VCALENDAR
VERSION:2.0
PRODID:-//hacksw/handcal//NONSGML v1.0//EN
CALSCALE:GREGORIAN
BEGIN:VEVENT
LOCATION:Abidjan\, Côte d'Ivoire
SUMMARY:La COP des villes
DESCRIPTION:La COP des villes
DTSTART:20220701T000000
DTEND:20220702T000000
URL;VALUE=URI:https://energy-cities.eu/fr/evenement/cop-of-cities/
DTSTAMP:now
UID:65976fc888656
END:VEVENT
END:VCALENDAR