BEGIN:VCALENDAR
VERSION:2.0
PRODID:-//hacksw/handcal//NONSGML v1.0//EN
CALSCALE:GREGORIAN
BEGIN:VEVENT
LOCATION:Académie du Climat\, Place Baudoyer\, Paris\, France
SUMMARY:Launch Event of the Global Synthesis Report on Climate Action by Sector 2022
DESCRIPTION:Launch Event of the Global Synthesis Report on Climate Action by Sector 2022
DTSTART:20221208T183000
DTEND:20221208T220000
URL;VALUE=URI:https://energy-cities.eu/event/launch-event-of-the-global-synthesis-report-on-climate-action-by-sector-2022/
DTSTAMP:now
UID:65976562b7e9f
END:VEVENT
END:VCALENDAR