BEGIN:VCALENDAR
VERSION:2.0
PRODID:-//hacksw/handcal//NONSGML v1.0//EN
CALSCALE:GREGORIAN
BEGIN:VEVENT
LOCATION:Amiens\, France
SUMMARY:Amiens Energy Summit
DESCRIPTION:Amiens Energy Summit
DTSTART:20191127T080000
DTEND:20191128T180000
URL;VALUE=URI:https://energy-cities.eu/fr/evenement/amiens-energy-summit/
DTSTAMP:now
UID:65976cd41e0ae
END:VEVENT
END:VCALENDAR