BEGIN:VCALENDAR
VERSION:2.0
PRODID:-//hacksw/handcal//NONSGML v1.0//EN
CALSCALE:GREGORIAN
BEGIN:VEVENT
LOCATION:Amiens\, France
SUMMARY:Rencontres européennes de la participation
DESCRIPTION:Rencontres européennes de la participation
DTSTART:20210913T000000
DTEND:20210917T000000
URL;VALUE=URI:https://energy-cities.eu/fr/evenement/rencontres-europeennes-de-la-participation/
DTSTAMP:now
UID:6597674af10ef
END:VEVENT
END:VCALENDAR