BEGIN:VCALENDAR
VERSION:2.0
PRODID:-//hacksw/handcal//NONSGML v1.0//EN
CALSCALE:GREGORIAN
BEGIN:VEVENT
LOCATION:Amsterdam\, Netherlands
SUMMARY:L&rsquo\;avenir est public : Appropriation démocratique de l&rsquo\;économie
DESCRIPTION:L&rsquo\;avenir est public : Appropriation démocratique de l&rsquo\;économie
DTSTART:20191204T000000
DTEND:20191204T000000
URL;VALUE=URI:https://energy-cities.eu/fr/evenement/lavenir-est-public-appropriation-democratique-de-leconomie/
DTSTAMP:now
UID:659776f1d4f2a
END:VEVENT
END:VCALENDAR