BEGIN:VCALENDAR
VERSION:2.0
PRODID:-//hacksw/handcal//NONSGML v1.0//EN
CALSCALE:GREGORIAN
BEGIN:VEVENT
LOCATION:Amsterdam\, Netherlands
SUMMARY:Positive Energy Districts Conference
DESCRIPTION:Positive Energy Districts Conference
DTSTART:20220623T000000
DTEND:20220624T000000
URL;VALUE=URI:https://energy-cities.eu/event/positive-energy-districts-conference/
DTSTAMP:now
UID:659765d511f4e
END:VEVENT
END:VCALENDAR