BEGIN:VCALENDAR
VERSION:2.0
PRODID:-//hacksw/handcal//NONSGML v1.0//EN
CALSCALE:GREGORIAN
BEGIN:VEVENT
LOCATION:Amsterdam\, Netherlands
SUMMARY:RE-Source 2019
DESCRIPTION:RE-Source 2019
DTSTART:20191002T000000
DTEND:20191003T000000
URL;VALUE=URI:https://energy-cities.eu/event/re-source-2019/
DTSTAMP:now
UID:65976854c8b35
END:VEVENT
END:VCALENDAR