BEGIN:VCALENDAR
VERSION:2.0
PRODID:-//hacksw/handcal//NONSGML v1.0//EN
CALSCALE:GREGORIAN
BEGIN:VEVENT
LOCATION:Amsterdam\, Netherlands
SUMMARY:RE-Source 2022 Event on energy procurement
DESCRIPTION:RE-Source 2022 Event on energy procurement
DTSTART:20221006T090000
DTEND:20221007T190000
URL;VALUE=URI:https://energy-cities.eu/event/re-source-2022-event/
DTSTAMP:now
UID:65976eeeb3c53
END:VEVENT
END:VCALENDAR