BEGIN:VCALENDAR
VERSION:2.0
PRODID:-//hacksw/handcal//NONSGML v1.0//EN
CALSCALE:GREGORIAN
BEGIN:VEVENT
LOCATION:Amsterdam\, Netherlands
SUMMARY:The Future is Public: Democratic ownership of the economy
DESCRIPTION:The Future is Public: Democratic ownership of the economy
DTSTART:20191204T000000
DTEND:20191205T000000
URL;VALUE=URI:https://energy-cities.eu/event/the-future-is-public-democratic-ownership-of-the-economy/
DTSTAMP:now
UID:65976f4891b7b
END:VEVENT
END:VCALENDAR