BEGIN:VCALENDAR
VERSION:2.0
PRODID:-//hacksw/handcal//NONSGML v1.0//EN
CALSCALE:GREGORIAN
BEGIN:VEVENT
LOCATION:Amsterdam\, Netherlands
SUMMARY:Voyage d&rsquo\;étude sur les thèmes de l&rsquo\;économie circulaire et de l&rsquo\;innovation sociale
DESCRIPTION:Voyage d&rsquo\;étude sur les thèmes de l&rsquo\;économie circulaire et de l&rsquo\;innovation sociale
DTSTART:20220512T000000
DTEND:20220513T000000
URL;VALUE=URI:https://energy-cities.eu/fr/evenement/voyage-detude-sur-les-themes-de-leconomie-circulaire-et-de-linnovation-sociale/
DTSTAMP:now
UID:65976d65852a9
END:VEVENT
END:VCALENDAR