BEGIN:VCALENDAR
VERSION:2.0
PRODID:-//hacksw/handcal//NONSGML v1.0//EN
CALSCALE:GREGORIAN
BEGIN:VEVENT
LOCATION:Atelier29\, Rue Jacques de Lalaing 29\, 1000 Bruxelles\, Belgium
SUMMARY:LIFE-NECPlatform Political Launch: Strengthening multi-level governance for the development of new NECPs
DESCRIPTION:LIFE-NECPlatform Political Launch: Strengthening multi-level governance for the development of new NECPs
DTSTART:20221011T130000
DTEND:20221011T173000
URL;VALUE=URI:https://energy-cities.eu/event/strengthening-multi-level-governance-for-the-development-of-new-necps-political-launch-of-life-necplatform-project/
DTSTAMP:now
UID:65976c92d3144
END:VEVENT
END:VCALENDAR