BEGIN:VCALENDAR
VERSION:2.0
PRODID:-//hacksw/handcal//NONSGML v1.0//EN
CALSCALE:GREGORIAN
BEGIN:VEVENT
LOCATION:Athens\, Greece
SUMMARY:Back to the roots of (energy) democracy! Community Energy Spring Gathering
DESCRIPTION:Back to the roots of (energy) democracy! Community Energy Spring Gathering
DTSTART:20230508T000000
DTEND:20230510T000000
URL;VALUE=URI:https://energy-cities.eu/event/back-to-the-roots-of-energy-democracy-community-energy-spring-gathering/
DTSTAMP:now
UID:6597637f781b2
END:VEVENT
END:VCALENDAR